BEGIN:VCALENDAR
VERSION:2.0
PRODID:-//Ottawa Tavern - ECPv6.15.18//NONSGML v1.0//EN
CALSCALE:GREGORIAN
METHOD:PUBLISH
X-WR-CALNAME:Ottawa Tavern
X-ORIGINAL-URL:https://theottawatavern.com
X-WR-CALDESC:Events for Ottawa Tavern
REFRESH-INTERVAL;VALUE=DURATION:PT1H
X-Robots-Tag:noindex
X-PUBLISHED-TTL:PT1H
BEGIN:VTIMEZONE
TZID:UTC
BEGIN:STANDARD
TZOFFSETFROM:+0000
TZOFFSETTO:+0000
TZNAME:UTC
DTSTART:20240101T000000
END:STANDARD
END:VTIMEZONE
BEGIN:VEVENT
DTSTART;TZID=UTC:20251226T200000
DTEND;TZID=UTC:20251226T235900
DTSTAMP:20260420T125600
CREATED:20251217T233002Z
LAST-MODIFIED:20251217T233002Z
UID:147-1766779200-1766793540@theottawatavern.com
SUMMARY:Ho Ho OT Holiday Bash
DESCRIPTION:Ho Ho OT Holiday Bash \nFriday December 26th\, 2025 \nwsg/ Take A Lap\, Wavelane\, Hit & Run\, Seth Bridges\, & Evin R. Daniels \nAdvance tickets: $8.00 | $10.00 day of show \n+$5.00 if under 21
URL:https://theottawatavern.com/event/ho-ho-ot-holiday-bash/
LOCATION:Ottawa Tavern\, 1815 Adams St\, Toledo\, OH\, 43604\, United States
ATTACH;FMTTYPE=image/jpeg:https://theottawatavern.com/wp-content/uploads/sites/3/2025/12/otxmasshowIG.jpg
END:VEVENT
END:VCALENDAR