BEGIN:VCALENDAR
VERSION:2.0
PRODID:-//Ottawa Tavern - ECPv6.15.18//NONSGML v1.0//EN
CALSCALE:GREGORIAN
METHOD:PUBLISH
X-ORIGINAL-URL:https://theottawatavern.com
X-WR-CALDESC:Events for Ottawa Tavern
REFRESH-INTERVAL;VALUE=DURATION:PT1H
X-Robots-Tag:noindex
X-PUBLISHED-TTL:PT1H
BEGIN:VTIMEZONE
TZID:America/New_York
BEGIN:DAYLIGHT
TZOFFSETFROM:-0500
TZOFFSETTO:-0400
TZNAME:EDT
DTSTART:20240310T070000
END:DAYLIGHT
BEGIN:STANDARD
TZOFFSETFROM:-0400
TZOFFSETTO:-0500
TZNAME:EST
DTSTART:20241103T060000
END:STANDARD
BEGIN:DAYLIGHT
TZOFFSETFROM:-0500
TZOFFSETTO:-0400
TZNAME:EDT
DTSTART:20250309T070000
END:DAYLIGHT
BEGIN:STANDARD
TZOFFSETFROM:-0400
TZOFFSETTO:-0500
TZNAME:EST
DTSTART:20251102T060000
END:STANDARD
BEGIN:DAYLIGHT
TZOFFSETFROM:-0500
TZOFFSETTO:-0400
TZNAME:EDT
DTSTART:20260308T070000
END:DAYLIGHT
BEGIN:STANDARD
TZOFFSETFROM:-0400
TZOFFSETTO:-0500
TZNAME:EST
DTSTART:20261101T060000
END:STANDARD
END:VTIMEZONE
BEGIN:VEVENT
DTSTART;TZID=America/New_York:20251025T200000
DTEND;TZID=America/New_York:20251025T200000
DTSTAMP:20260420T095754
CREATED:20251009T192024Z
LAST-MODIFIED:20251014T011344Z
UID:78-1761422400-1761422400@theottawatavern.com
SUMMARY:Squish
DESCRIPTION:Squish \nSaturday October 25th\, 2025  \nwsg/ Horselover\, Diet Smiles\, & Dreggtooth \nAdvance tickets: $10.00 | $12.00 day of show \n+$3.00 under 21 w/ out a ticket \n 
URL:https://theottawatavern.com/event/squish/
LOCATION:Ottawa Tavern\, 1815 Adams St\, Toledo\, OH\, 43604\, United States
ATTACH;FMTTYPE=image/png:https://theottawatavern.com/wp-content/uploads/sites/3/2025/10/IMG_8560-kk4nKf.png
END:VEVENT
END:VCALENDAR